BEGIN:VCALENDAR
VERSION:2.0
PRODID:-//Gemeinde Reimlingen - ECPv6.15.13//NONSGML v1.0//EN
CALSCALE:GREGORIAN
METHOD:PUBLISH
X-ORIGINAL-URL:https://reimlingen.de
X-WR-CALDESC:Veranstaltungen für Gemeinde Reimlingen
REFRESH-INTERVAL;VALUE=DURATION:PT1H
X-Robots-Tag:noindex
X-PUBLISHED-TTL:PT1H
BEGIN:VTIMEZONE
TZID:Europe/Berlin
BEGIN:DAYLIGHT
TZOFFSETFROM:+0100
TZOFFSETTO:+0200
TZNAME:CEST
DTSTART:20250330T010000
END:DAYLIGHT
BEGIN:STANDARD
TZOFFSETFROM:+0200
TZOFFSETTO:+0100
TZNAME:CET
DTSTART:20251026T010000
END:STANDARD
BEGIN:DAYLIGHT
TZOFFSETFROM:+0100
TZOFFSETTO:+0200
TZNAME:CEST
DTSTART:20260329T010000
END:DAYLIGHT
BEGIN:STANDARD
TZOFFSETFROM:+0200
TZOFFSETTO:+0100
TZNAME:CET
DTSTART:20261025T010000
END:STANDARD
BEGIN:DAYLIGHT
TZOFFSETFROM:+0100
TZOFFSETTO:+0200
TZNAME:CEST
DTSTART:20270328T010000
END:DAYLIGHT
BEGIN:STANDARD
TZOFFSETFROM:+0200
TZOFFSETTO:+0100
TZNAME:CET
DTSTART:20271031T010000
END:STANDARD
END:VTIMEZONE
BEGIN:VEVENT
DTSTART;TZID=Europe/Berlin:20261204T193000
DTEND;TZID=Europe/Berlin:20261204T193000
DTSTAMP:20260423T070801
CREATED:20251228T145029Z
LAST-MODIFIED:20260111T105547Z
UID:6801-1796412600-1796412600@reimlingen.de
SUMMARY:Weinkellerabend
DESCRIPTION:
URL:https://reimlingen.de/terminkalender/weinkellerabend-28/
LOCATION:Schloß Reimlingen
CATEGORIES:FSR
END:VEVENT
BEGIN:VEVENT
DTSTART;TZID=Europe/Berlin:20261205T133000
DTEND;TZID=Europe/Berlin:20261205T133000
DTSTAMP:20260423T070801
CREATED:20251230T223055Z
LAST-MODIFIED:20260111T105622Z
UID:6868-1796477400-1796477400@reimlingen.de
SUMMARY:Christbaumverkauf
DESCRIPTION:
URL:https://reimlingen.de/terminkalender/christbaumverkauf/
LOCATION:Haus der Vereine\, Raiffeisenstraße 4\, Reimlingen\, 86756
CATEGORIES:FFW
END:VEVENT
BEGIN:VEVENT
DTSTART;TZID=Europe/Berlin:20261206T180000
DTEND;TZID=Europe/Berlin:20261206T180000
DTSTAMP:20260423T070801
CREATED:20251230T223206Z
LAST-MODIFIED:20251230T223246Z
UID:6870-1796580000-1796580000@reimlingen.de
SUMMARY:Weihnachtsfeier
DESCRIPTION:
URL:https://reimlingen.de/terminkalender/weihnachtsfeier-2/
CATEGORIES:GBV
END:VEVENT
END:VCALENDAR