BEGIN:VCALENDAR
VERSION:2.0
PRODID:-//Gemeinde Reimlingen - ECPv6.15.13//NONSGML v1.0//EN
CALSCALE:GREGORIAN
METHOD:PUBLISH
X-WR-CALNAME:Gemeinde Reimlingen
X-ORIGINAL-URL:https://reimlingen.de
X-WR-CALDESC:Veranstaltungen für Gemeinde Reimlingen
REFRESH-INTERVAL;VALUE=DURATION:PT1H
X-Robots-Tag:noindex
X-PUBLISHED-TTL:PT1H
BEGIN:VTIMEZONE
TZID:Europe/Berlin
BEGIN:DAYLIGHT
TZOFFSETFROM:+0100
TZOFFSETTO:+0200
TZNAME:CEST
DTSTART:20250330T010000
END:DAYLIGHT
BEGIN:STANDARD
TZOFFSETFROM:+0200
TZOFFSETTO:+0100
TZNAME:CET
DTSTART:20251026T010000
END:STANDARD
BEGIN:DAYLIGHT
TZOFFSETFROM:+0100
TZOFFSETTO:+0200
TZNAME:CEST
DTSTART:20260329T010000
END:DAYLIGHT
BEGIN:STANDARD
TZOFFSETFROM:+0200
TZOFFSETTO:+0100
TZNAME:CET
DTSTART:20261025T010000
END:STANDARD
BEGIN:DAYLIGHT
TZOFFSETFROM:+0100
TZOFFSETTO:+0200
TZNAME:CEST
DTSTART:20270328T010000
END:DAYLIGHT
BEGIN:STANDARD
TZOFFSETFROM:+0200
TZOFFSETTO:+0100
TZNAME:CET
DTSTART:20271031T010000
END:STANDARD
END:VTIMEZONE
BEGIN:VEVENT
DTSTART;TZID=Europe/Berlin:20260306T190000
DTEND;TZID=Europe/Berlin:20260306T190000
DTSTAMP:20260422T191647
CREATED:20251226T135738Z
LAST-MODIFIED:20251227T145627Z
UID:6724-1772823600-1772823600@reimlingen.de
SUMMARY:Weltgebetstag
DESCRIPTION:
URL:https://reimlingen.de/terminkalender/weltgebetstag-2/
LOCATION:Kirche St. Georg
CATEGORIES:PfGem
END:VEVENT
BEGIN:VEVENT
DTSTART;TZID=Europe/Berlin:20260306T193000
DTEND;TZID=Europe/Berlin:20260306T193000
DTSTAMP:20260422T191647
CREATED:20251226T132051Z
LAST-MODIFIED:20251227T145811Z
UID:6710-1772825400-1772825400@reimlingen.de
SUMMARY:Weinkellerabend
DESCRIPTION:
URL:https://reimlingen.de/terminkalender/weinkellerabend-14/
LOCATION:Schloß Reimlingen
CATEGORIES:FSR
END:VEVENT
BEGIN:VEVENT
DTSTART;VALUE=DATE:20260310
DTEND;VALUE=DATE:20260311
DTSTAMP:20260422T191647
CREATED:20251228T123613Z
LAST-MODIFIED:20251228T123613Z
UID:6726-1773100800-1773187199@reimlingen.de
SUMMARY:Raiba Ortsversammlung
DESCRIPTION:
URL:https://reimlingen.de/terminkalender/raiba-ortsversammlung-4/
LOCATION:Gasthaus Braun\, Schmähinger Straße 1\, Reimlingen
END:VEVENT
BEGIN:VEVENT
DTSTART;TZID=Europe/Berlin:20260314T190000
DTEND;TZID=Europe/Berlin:20260314T190000
DTSTAMP:20260422T191647
CREATED:20251228T123822Z
LAST-MODIFIED:20251228T124658Z
UID:6728-1773514800-1773514800@reimlingen.de
SUMMARY:Generalversammlung
DESCRIPTION:
URL:https://reimlingen.de/terminkalender/generalversammlung-10/
LOCATION:Schloß Reimlingen
CATEGORIES:FSR
END:VEVENT
BEGIN:VEVENT
DTSTART;VALUE=DATE:20260315
DTEND;VALUE=DATE:20260316
DTSTAMP:20260422T191647
CREATED:20251228T124022Z
LAST-MODIFIED:20251228T124022Z
UID:6730-1773532800-1773619199@reimlingen.de
SUMMARY:Konzert im Kulturstadl Reimlingen
DESCRIPTION:
URL:https://reimlingen.de/terminkalender/konzert-im-kulturstadl-reimlingen-10/
LOCATION:Kulturstadl Reimlingen\, Hauptstr. 11\, Reimlingen\, 86756\, Germany
CATEGORIES:KFN
ORGANIZER;CN="Kulturforum N%C3%B6rdlingen":MAILTO:info@kulturforum-noerdlingen.de
END:VEVENT
BEGIN:VEVENT
DTSTART;VALUE=DATE:20260317
DTEND;VALUE=DATE:20260318
DTSTAMP:20260422T191647
CREATED:20251228T124155Z
LAST-MODIFIED:20251228T124155Z
UID:6732-1773705600-1773791999@reimlingen.de
SUMMARY:Generalversammlung
DESCRIPTION:
URL:https://reimlingen.de/terminkalender/generalversammlung-11/
CATEGORIES:GBV
END:VEVENT
BEGIN:VEVENT
DTSTART;TZID=Europe/Berlin:20260320T200000
DTEND;TZID=Europe/Berlin:20260320T200000
DTSTAMP:20260422T191647
CREATED:20251228T124302Z
LAST-MODIFIED:20251228T124753Z
UID:6734-1774036800-1774036800@reimlingen.de
SUMMARY:Generalversammlung
DESCRIPTION:
URL:https://reimlingen.de/terminkalender/generalversammlung-12/
LOCATION:Sportheim\, Am Sommerkeller 11\, Reimlingen\, 86756
CATEGORIES:FSV
END:VEVENT
BEGIN:VEVENT
DTSTART;VALUE=DATE:20260329
DTEND;VALUE=DATE:20260330
DTSTAMP:20260422T191647
CREATED:20251228T124415Z
LAST-MODIFIED:20251228T124415Z
UID:6736-1774742400-1774828799@reimlingen.de
SUMMARY:Konzert im Schloss Reimlingen
DESCRIPTION:
URL:https://reimlingen.de/terminkalender/konzert-im-schloss-reimlingen-2/
LOCATION:Schloß Reimlingen
CATEGORIES:FSV
END:VEVENT
END:VCALENDAR