BEGIN:VCALENDAR
VERSION:2.0
PRODID:-//Gemeinde Reimlingen - ECPv6.15.13//NONSGML v1.0//EN
CALSCALE:GREGORIAN
METHOD:PUBLISH
X-WR-CALNAME:Gemeinde Reimlingen
X-ORIGINAL-URL:https://reimlingen.de
X-WR-CALDESC:Veranstaltungen für Gemeinde Reimlingen
REFRESH-INTERVAL;VALUE=DURATION:PT1H
X-Robots-Tag:noindex
X-PUBLISHED-TTL:PT1H
BEGIN:VTIMEZONE
TZID:Europe/Berlin
BEGIN:DAYLIGHT
TZOFFSETFROM:+0100
TZOFFSETTO:+0200
TZNAME:CEST
DTSTART:20250330T010000
END:DAYLIGHT
BEGIN:STANDARD
TZOFFSETFROM:+0200
TZOFFSETTO:+0100
TZNAME:CET
DTSTART:20251026T010000
END:STANDARD
BEGIN:DAYLIGHT
TZOFFSETFROM:+0100
TZOFFSETTO:+0200
TZNAME:CEST
DTSTART:20260329T010000
END:DAYLIGHT
BEGIN:STANDARD
TZOFFSETFROM:+0200
TZOFFSETTO:+0100
TZNAME:CET
DTSTART:20261025T010000
END:STANDARD
BEGIN:DAYLIGHT
TZOFFSETFROM:+0100
TZOFFSETTO:+0200
TZNAME:CEST
DTSTART:20270328T010000
END:DAYLIGHT
BEGIN:STANDARD
TZOFFSETFROM:+0200
TZOFFSETTO:+0100
TZNAME:CET
DTSTART:20271031T010000
END:STANDARD
END:VTIMEZONE
BEGIN:VEVENT
DTSTART;TZID=Europe/Berlin:20260206T193000
DTEND;TZID=Europe/Berlin:20260206T193000
DTSTAMP:20260422T204314
CREATED:20251226T131924Z
LAST-MODIFIED:20251226T134657Z
UID:6708-1770406200-1770406200@reimlingen.de
SUMMARY:Weinkellerabend
DESCRIPTION:
URL:https://reimlingen.de/terminkalender/weinkellerabend-13/
LOCATION:Schloß Reimlingen
CATEGORIES:FSR
END:VEVENT
BEGIN:VEVENT
DTSTART;VALUE=DATE:20260208
DTEND;VALUE=DATE:20260209
DTSTAMP:20260422T204314
CREATED:20251226T133230Z
LAST-MODIFIED:20251226T134651Z
UID:6716-1770508800-1770595199@reimlingen.de
SUMMARY:Kinderfasching
DESCRIPTION:
URL:https://reimlingen.de/terminkalender/kinderfasching/
LOCATION:Sportheim\, Am Sommerkeller 11\, Reimlingen\, 86756
CATEGORIES:FSV
END:VEVENT
BEGIN:VEVENT
DTSTART;TZID=Europe/Berlin:20260215T150000
DTEND;TZID=Europe/Berlin:20260215T150000
DTSTAMP:20260422T204314
CREATED:20251226T133402Z
LAST-MODIFIED:20251227T145334Z
UID:6718-1771167600-1771167600@reimlingen.de
SUMMARY:Schlossführung
DESCRIPTION:
URL:https://reimlingen.de/terminkalender/schlossfuehrung-8/
LOCATION:Schloß Reimlingen
CATEGORIES:FSR,VHS
END:VEVENT
BEGIN:VEVENT
DTSTART;TZID=Europe/Berlin:20260221T200000
DTEND;TZID=Europe/Berlin:20260221T200000
DTSTAMP:20260422T204314
CREATED:20251226T133711Z
LAST-MODIFIED:20251226T135114Z
UID:6722-1771704000-1771704000@reimlingen.de
SUMMARY:Generalversammlung
DESCRIPTION:
URL:https://reimlingen.de/terminkalender/generalversammlung-9/
LOCATION:Gasthaus Braun\, Schmähinger Straße 1\, Reimlingen
CATEGORIES:FFW
END:VEVENT
END:VCALENDAR