BEGIN:VCALENDAR
VERSION:2.0
PRODID:-//Gemeinde Reimlingen - ECPv6.15.13//NONSGML v1.0//EN
CALSCALE:GREGORIAN
METHOD:PUBLISH
X-WR-CALNAME:Gemeinde Reimlingen
X-ORIGINAL-URL:https://reimlingen.de
X-WR-CALDESC:Veranstaltungen für Gemeinde Reimlingen
REFRESH-INTERVAL;VALUE=DURATION:PT1H
X-Robots-Tag:noindex
X-PUBLISHED-TTL:PT1H
BEGIN:VTIMEZONE
TZID:Europe/Berlin
BEGIN:DAYLIGHT
TZOFFSETFROM:+0100
TZOFFSETTO:+0200
TZNAME:CEST
DTSTART:20250330T010000
END:DAYLIGHT
BEGIN:STANDARD
TZOFFSETFROM:+0200
TZOFFSETTO:+0100
TZNAME:CET
DTSTART:20251026T010000
END:STANDARD
BEGIN:DAYLIGHT
TZOFFSETFROM:+0100
TZOFFSETTO:+0200
TZNAME:CEST
DTSTART:20260329T010000
END:DAYLIGHT
BEGIN:STANDARD
TZOFFSETFROM:+0200
TZOFFSETTO:+0100
TZNAME:CET
DTSTART:20261025T010000
END:STANDARD
BEGIN:DAYLIGHT
TZOFFSETFROM:+0100
TZOFFSETTO:+0200
TZNAME:CEST
DTSTART:20270328T010000
END:DAYLIGHT
BEGIN:STANDARD
TZOFFSETFROM:+0200
TZOFFSETTO:+0100
TZNAME:CET
DTSTART:20271031T010000
END:STANDARD
END:VTIMEZONE
BEGIN:VEVENT
DTSTART;VALUE=DATE:20260104
DTEND;VALUE=DATE:20260105
DTSTAMP:20260422T221512
CREATED:20251226T130104Z
LAST-MODIFIED:20251226T135931Z
UID:6698-1767484800-1767571199@reimlingen.de
SUMMARY:Heilige Drei Könige - Sternsinger
DESCRIPTION:
URL:https://reimlingen.de/terminkalender/heilige-drei-koenige-sternsinger-3/
CATEGORIES:PfGem
END:VEVENT
BEGIN:VEVENT
DTSTART;TZID=Europe/Berlin:20260105T170000
DTEND;TZID=Europe/Berlin:20260105T170000
DTSTAMP:20260422T221512
CREATED:20251226T130036Z
LAST-MODIFIED:20251226T134733Z
UID:6700-1767632400-1767632400@reimlingen.de
SUMMARY:Christbaumloben
DESCRIPTION:
URL:https://reimlingen.de/terminkalender/christbaumloben/
LOCATION:Schloß Reimlingen
CATEGORIES:Gem
END:VEVENT
BEGIN:VEVENT
DTSTART;VALUE=DATE:20260110
DTEND;VALUE=DATE:20260111
DTSTAMP:20260422T221512
CREATED:20251226T130352Z
LAST-MODIFIED:20251226T134711Z
UID:6702-1768003200-1768089599@reimlingen.de
SUMMARY:Christbaumaktion
DESCRIPTION:
URL:https://reimlingen.de/terminkalender/christbaumaktion-3/
CATEGORIES:KLJB
END:VEVENT
BEGIN:VEVENT
DTSTART;TZID=Europe/Berlin:20260125T190000
DTEND;TZID=Europe/Berlin:20260125T190000
DTSTAMP:20260422T221512
CREATED:20251226T130542Z
LAST-MODIFIED:20251226T134719Z
UID:6704-1769367600-1769367600@reimlingen.de
SUMMARY:Generalversammlung
DESCRIPTION:
URL:https://reimlingen.de/terminkalender/generalversammlung-8/
LOCATION:Gasthaus Braun\, Schmähinger Straße 1\, Reimlingen
CATEGORIES:MK
END:VEVENT
BEGIN:VEVENT
DTSTART;TZID=Europe/Berlin:20260131T200000
DTEND;TZID=Europe/Berlin:20260131T200000
DTSTAMP:20260422T221512
CREATED:20251226T130642Z
LAST-MODIFIED:20251226T134704Z
UID:6706-1769889600-1769889600@reimlingen.de
SUMMARY:Faschingsball d. Vereine
DESCRIPTION:
URL:https://reimlingen.de/terminkalender/faschingsball-d-vereine/
LOCATION:Gasthaus Braun\, Schmähinger Straße 1\, Reimlingen
END:VEVENT
END:VCALENDAR