BEGIN:VCALENDAR
VERSION:2.0
PRODID:-//Gemeinde Reimlingen - ECPv6.15.13//NONSGML v1.0//EN
CALSCALE:GREGORIAN
METHOD:PUBLISH
X-WR-CALNAME:Gemeinde Reimlingen
X-ORIGINAL-URL:https://reimlingen.de
X-WR-CALDESC:Veranstaltungen für Gemeinde Reimlingen
REFRESH-INTERVAL;VALUE=DURATION:PT1H
X-Robots-Tag:noindex
X-PUBLISHED-TTL:PT1H
BEGIN:VTIMEZONE
TZID:Europe/Berlin
BEGIN:DAYLIGHT
TZOFFSETFROM:+0100
TZOFFSETTO:+0200
TZNAME:CEST
DTSTART:20250330T010000
END:DAYLIGHT
BEGIN:STANDARD
TZOFFSETFROM:+0200
TZOFFSETTO:+0100
TZNAME:CET
DTSTART:20251026T010000
END:STANDARD
BEGIN:DAYLIGHT
TZOFFSETFROM:+0100
TZOFFSETTO:+0200
TZNAME:CEST
DTSTART:20260329T010000
END:DAYLIGHT
BEGIN:STANDARD
TZOFFSETFROM:+0200
TZOFFSETTO:+0100
TZNAME:CET
DTSTART:20261025T010000
END:STANDARD
BEGIN:DAYLIGHT
TZOFFSETFROM:+0100
TZOFFSETTO:+0200
TZNAME:CEST
DTSTART:20270328T010000
END:DAYLIGHT
BEGIN:STANDARD
TZOFFSETFROM:+0200
TZOFFSETTO:+0100
TZNAME:CET
DTSTART:20271031T010000
END:STANDARD
END:VTIMEZONE
BEGIN:VEVENT
DTSTART;VALUE=DATE:20260425
DTEND;VALUE=DATE:20260426
DTSTAMP:20260425T132855
CREATED:20251228T130007Z
LAST-MODIFIED:20251228T130007Z
UID:6747-1777075200-1777161599@reimlingen.de
SUMMARY:Kleidermarkt
DESCRIPTION:
URL:https://reimlingen.de/terminkalender/kleidermarkt-5/
LOCATION:Bildungshaus Turnhalle\, Schloßstraße 2\, 86756 Reimlingen\, Bayern\, Deutschland
CATEGORIES:IFK
END:VEVENT
BEGIN:VEVENT
DTSTART;VALUE=DATE:20260425
DTEND;VALUE=DATE:20260426
DTSTAMP:20260425T132855
CREATED:20251228T130104Z
LAST-MODIFIED:20260111T103350Z
UID:6749-1777075200-1777161599@reimlingen.de
SUMMARY:Konzert im Kulturstadl Reimlingen
DESCRIPTION:
URL:https://reimlingen.de/terminkalender/konzert-im-kulturstadl-reimlingen-12/
LOCATION:Kulturstadl Reimlingen\, Hauptstr. 11\, Reimlingen\, 86756\, Germany
CATEGORIES:KFN
ORGANIZER;CN="Kulturforum N%C3%B6rdlingen":MAILTO:info@kulturforum-noerdlingen.de
END:VEVENT
BEGIN:VEVENT
DTSTART;VALUE=DATE:20260425
DTEND;VALUE=DATE:20260426
DTSTAMP:20260425T132855
CREATED:20260111T104013Z
LAST-MODIFIED:20260111T104013Z
UID:6888-1777075200-1777161599@reimlingen.de
SUMMARY:Helferfest
DESCRIPTION:
URL:https://reimlingen.de/terminkalender/helferfest/
CATEGORIES:FFW
END:VEVENT
BEGIN:VEVENT
DTSTART;TZID=Europe/Berlin:20260426T190000
DTEND;TZID=Europe/Berlin:20260426T190000
DTSTAMP:20260425T132855
CREATED:20251228T130351Z
LAST-MODIFIED:20251228T135857Z
UID:6753-1777230000-1777230000@reimlingen.de
SUMMARY:Rieser Kulturtage Vortrag
DESCRIPTION:
URL:https://reimlingen.de/terminkalender/rieser-kulturtage-vortrag/
LOCATION:Schloß Reimlingen
CATEGORIES:FSR
END:VEVENT
BEGIN:VEVENT
DTSTART;VALUE=DATE:20260430
DTEND;VALUE=DATE:20260501
DTSTAMP:20260425T132855
CREATED:20251228T130523Z
LAST-MODIFIED:20251228T130523Z
UID:6755-1777507200-1777593599@reimlingen.de
SUMMARY:Maibaumfest
DESCRIPTION:
URL:https://reimlingen.de/terminkalender/maibaumfest-2/
LOCATION:Haus der Vereine\, Raiffeisenstraße 4\, Reimlingen\, 86756
CATEGORIES:FFW
END:VEVENT
BEGIN:VEVENT
DTSTART;VALUE=DATE:20260504
DTEND;VALUE=DATE:20260505
DTSTAMP:20260425T132855
CREATED:20251228T140119Z
LAST-MODIFIED:20260108T070704Z
UID:6759-1777852800-1777939199@reimlingen.de
SUMMARY:Stadtmauerumgang der Pfarreingemeinde Nördlingen
DESCRIPTION:
URL:https://reimlingen.de/terminkalender/stadtmauerumgang-der-pfarreingemeinde-noerdlingen/
LOCATION:Nördlingen
CATEGORIES:FFW
END:VEVENT
BEGIN:VEVENT
DTSTART;VALUE=DATE:20260508
DTEND;VALUE=DATE:20260509
DTSTAMP:20260425T132855
CREATED:20251228T140223Z
LAST-MODIFIED:20251228T140223Z
UID:6761-1778198400-1778284799@reimlingen.de
SUMMARY:Konzert im Kulturstadl Reimlingen
DESCRIPTION:
URL:https://reimlingen.de/terminkalender/konzert-im-kulturstadl-reimlingen-13/
LOCATION:Kulturstadl Reimlingen\, Hauptstr. 11\, Reimlingen\, 86756\, Germany
CATEGORIES:KFN
ORGANIZER;CN="Kulturforum N%C3%B6rdlingen":MAILTO:info@kulturforum-noerdlingen.de
END:VEVENT
BEGIN:VEVENT
DTSTART;TZID=Europe/Berlin:20260508T193000
DTEND;TZID=Europe/Berlin:20260508T193000
DTSTAMP:20260425T132855
CREATED:20251226T132252Z
LAST-MODIFIED:20251226T135138Z
UID:6714-1778268600-1778268600@reimlingen.de
SUMMARY:Weinkellerabend
DESCRIPTION:
URL:https://reimlingen.de/terminkalender/weinkellerabend-19/
LOCATION:Schloß Reimlingen
CATEGORIES:FSR
END:VEVENT
BEGIN:VEVENT
DTSTART;VALUE=DATE:20260509
DTEND;VALUE=DATE:20260510
DTSTAMP:20260425T132855
CREATED:20251228T140330Z
LAST-MODIFIED:20251228T140330Z
UID:6763-1778284800-1778371199@reimlingen.de
SUMMARY:Rettichfest
DESCRIPTION:
URL:https://reimlingen.de/terminkalender/rettichfest-2/
LOCATION:Schloßhütten
CATEGORIES:GBV
END:VEVENT
BEGIN:VEVENT
DTSTART;TZID=Europe/Berlin:20260510T190000
DTEND;TZID=Europe/Berlin:20260510T190000
DTSTAMP:20260425T132855
CREATED:20251228T140440Z
LAST-MODIFIED:20251228T144002Z
UID:6765-1778439600-1778439600@reimlingen.de
SUMMARY:Rieser Kulturtage Konzert
DESCRIPTION:
URL:https://reimlingen.de/terminkalender/rieser-kulturtage-konzert/
LOCATION:Schloß Reimlingen
CATEGORIES:FSR
END:VEVENT
BEGIN:VEVENT
DTSTART;VALUE=DATE:20260511
DTEND;VALUE=DATE:20260512
DTSTAMP:20260425T132855
CREATED:20251228T140544Z
LAST-MODIFIED:20251228T140544Z
UID:6767-1778457600-1778543999@reimlingen.de
SUMMARY:Staben
DESCRIPTION:
URL:https://reimlingen.de/terminkalender/staben-3/
LOCATION:Nördlingen
CATEGORIES:MK
END:VEVENT
BEGIN:VEVENT
DTSTART;VALUE=DATE:20260514
DTEND;VALUE=DATE:20260515
DTSTAMP:20260425T132855
CREATED:20251228T140644Z
LAST-MODIFIED:20251228T140644Z
UID:6769-1778716800-1778803199@reimlingen.de
SUMMARY:Biergarten
DESCRIPTION:
URL:https://reimlingen.de/terminkalender/biergarten-3/
LOCATION:Schloßhütten
CATEGORIES:MK
END:VEVENT
BEGIN:VEVENT
DTSTART;VALUE=DATE:20260517
DTEND;VALUE=DATE:20260518
DTSTAMP:20260425T132855
CREATED:20251228T140824Z
LAST-MODIFIED:20251228T141413Z
UID:6771-1778976000-1779062399@reimlingen.de
SUMMARY:Umzug Baldingen
DESCRIPTION:
URL:https://reimlingen.de/terminkalender/umzug-baldingen/
LOCATION:Baldingen\, Baldingen\, 86720
CATEGORIES:MK
END:VEVENT
BEGIN:VEVENT
DTSTART;TZID=Europe/Berlin:20260519T190000
DTEND;TZID=Europe/Berlin:20260519T190000
DTSTAMP:20260425T132855
CREATED:20251228T141522Z
LAST-MODIFIED:20260111T104601Z
UID:6776-1779217200-1779217200@reimlingen.de
SUMMARY:Maiandacht
DESCRIPTION:
URL:https://reimlingen.de/terminkalender/maiandacht-2/
CATEGORIES:FSR
END:VEVENT
BEGIN:VEVENT
DTSTART;VALUE=DATE:20260524
DTEND;VALUE=DATE:20260525
DTSTAMP:20260425T132855
CREATED:20251228T141653Z
LAST-MODIFIED:20251228T141653Z
UID:6778-1779580800-1779667199@reimlingen.de
SUMMARY:Umzug Hohenaltheim
DESCRIPTION:
URL:https://reimlingen.de/terminkalender/umzug-hohenaltheim/
LOCATION:Hohenaltheim\, Hauptstr.\, Hohenaltheim\, 86745\, Germany
CATEGORIES:MK
END:VEVENT
BEGIN:VEVENT
DTSTART;VALUE=DATE:20260525
DTEND;VALUE=DATE:20260526
DTSTAMP:20260425T132855
CREATED:20251228T141805Z
LAST-MODIFIED:20251228T142522Z
UID:6780-1779667200-1779753599@reimlingen.de
SUMMARY:Fußwallfahrt nach Buggenhofen
DESCRIPTION:
URL:https://reimlingen.de/terminkalender/fusswallfahrt-nach-buggenhofen-4/
LOCATION:Buggenhofen\, Bissingen-Buggenhofen\, 86657
CATEGORIES:PfGem
END:VEVENT
BEGIN:VEVENT
DTSTART;VALUE=DATE:20260529
DTEND;VALUE=DATE:20260530
DTSTAMP:20260425T132855
CREATED:20251228T142617Z
LAST-MODIFIED:20251228T142617Z
UID:6786-1780012800-1780099199@reimlingen.de
SUMMARY:Konzert im Kulturstadl Reimlingen
DESCRIPTION:
URL:https://reimlingen.de/terminkalender/konzert-im-kulturstadl-reimlingen-14/
LOCATION:Kulturstadl Reimlingen\, Hauptstr. 11\, Reimlingen\, 86756\, Germany
CATEGORIES:KFN
ORGANIZER;CN="Kulturforum N%C3%B6rdlingen":MAILTO:info@kulturforum-noerdlingen.de
END:VEVENT
BEGIN:VEVENT
DTSTART;TZID=Europe/Berlin:20260605T193000
DTEND;TZID=Europe/Berlin:20260605T193000
DTSTAMP:20260425T132855
CREATED:20251228T144534Z
LAST-MODIFIED:20251228T145828Z
UID:6789-1780687800-1780687800@reimlingen.de
SUMMARY:Weinkellerabend
DESCRIPTION:
URL:https://reimlingen.de/terminkalender/weinkellerabend-20/
LOCATION:Schloß Reimlingen
CATEGORIES:FSR
END:VEVENT
BEGIN:VEVENT
DTSTART;VALUE=DATE:20260606
DTEND;VALUE=DATE:20260607
DTSTAMP:20260425T132855
CREATED:20251228T145948Z
LAST-MODIFIED:20251228T145948Z
UID:6805-1780704000-1780790399@reimlingen.de
SUMMARY:Messumzug
DESCRIPTION:
URL:https://reimlingen.de/terminkalender/messumzug-3/
LOCATION:Nördlingen
CATEGORIES:MK
END:VEVENT
BEGIN:VEVENT
DTSTART;VALUE=DATE:20260612
DTEND;VALUE=DATE:20260613
DTSTAMP:20260425T132855
CREATED:20251228T150052Z
LAST-MODIFIED:20251228T150052Z
UID:6807-1781222400-1781308799@reimlingen.de
SUMMARY:Rosetti Festtage
DESCRIPTION:
URL:https://reimlingen.de/terminkalender/rosetti-festtage-4/
LOCATION:Schloß Reimlingen
CATEGORIES:FSR
END:VEVENT
BEGIN:VEVENT
DTSTART;VALUE=DATE:20260613
DTEND;VALUE=DATE:20260614
DTSTAMP:20260425T132855
CREATED:20251228T150145Z
LAST-MODIFIED:20251228T150145Z
UID:6809-1781308800-1781395199@reimlingen.de
SUMMARY:Konzert im Kulturstadl Reimlingen
DESCRIPTION:
URL:https://reimlingen.de/terminkalender/konzert-im-kulturstadl-reimlingen-15/
LOCATION:Kulturstadl Reimlingen\, Hauptstr. 11\, Reimlingen\, 86756\, Germany
CATEGORIES:KFN
ORGANIZER;CN="Kulturforum N%C3%B6rdlingen":MAILTO:info@kulturforum-noerdlingen.de
END:VEVENT
BEGIN:VEVENT
DTSTART;TZID=Europe/Berlin:20260620T150000
DTEND;TZID=Europe/Berlin:20260620T150000
DTSTAMP:20260425T132855
CREATED:20251228T150256Z
LAST-MODIFIED:20251228T150709Z
UID:6811-1781967600-1781967600@reimlingen.de
SUMMARY:Firmung
DESCRIPTION:
URL:https://reimlingen.de/terminkalender/firmung-2/
LOCATION:Kirche St. Georg
CATEGORIES:PfGem
END:VEVENT
BEGIN:VEVENT
DTSTART;VALUE=DATE:20260628
DTEND;VALUE=DATE:20260629
DTSTAMP:20260425T132855
CREATED:20251228T150352Z
LAST-MODIFIED:20251228T150352Z
UID:6813-1782604800-1782691199@reimlingen.de
SUMMARY:Umzug Deiningen
DESCRIPTION:
URL:https://reimlingen.de/terminkalender/umzug-deiningen/
LOCATION:Deiningen\, 86738
CATEGORIES:MK
END:VEVENT
BEGIN:VEVENT
DTSTART;TZID=Europe/Berlin:20260630T170000
DTEND;TZID=Europe/Berlin:20260630T170000
DTSTAMP:20260425T132855
CREATED:20251228T150456Z
LAST-MODIFIED:20251228T150621Z
UID:6815-1782838800-1782838800@reimlingen.de
SUMMARY:Brot backen (Steinbackofen)
DESCRIPTION:
URL:https://reimlingen.de/terminkalender/brot-backen-steinbackofen-2/
LOCATION:Schloßhütten
CATEGORIES:FSR
END:VEVENT
BEGIN:VEVENT
DTSTART;TZID=Europe/Berlin:20260703T193000
DTEND;TZID=Europe/Berlin:20260703T193000
DTSTAMP:20260425T132855
CREATED:20251228T144624Z
LAST-MODIFIED:20251228T145802Z
UID:6791-1783107000-1783107000@reimlingen.de
SUMMARY:Weinkellerabend
DESCRIPTION:
URL:https://reimlingen.de/terminkalender/weinkellerabend-21/
LOCATION:Schloßhütten
CATEGORIES:FSR
END:VEVENT
BEGIN:VEVENT
DTSTART;VALUE=DATE:20260704
DTEND;VALUE=DATE:20260705
DTSTAMP:20260425T132855
CREATED:20251228T150817Z
LAST-MODIFIED:20251228T150817Z
UID:6817-1783123200-1783209599@reimlingen.de
SUMMARY:Stadtlauf
DESCRIPTION:
URL:https://reimlingen.de/terminkalender/stadtlauf/
LOCATION:Nördlingen
CATEGORIES:FSV
END:VEVENT
BEGIN:VEVENT
DTSTART;VALUE=DATE:20260705
DTEND;VALUE=DATE:20260706
DTSTAMP:20260425T132855
CREATED:20251228T151038Z
LAST-MODIFIED:20251228T151859Z
UID:6819-1783209600-1783295999@reimlingen.de
SUMMARY:Umzug Enkingen
DESCRIPTION:
URL:https://reimlingen.de/terminkalender/umzug-enkingen/
LOCATION:Enkingen\, Enkingen\, 86753
CATEGORIES:MK
END:VEVENT
BEGIN:VEVENT
DTSTART;VALUE=DATE:20260710
DTEND;VALUE=DATE:20260713
DTSTAMP:20260425T132855
CREATED:20251228T152001Z
LAST-MODIFIED:20251228T152001Z
UID:6827-1783641600-1783900799@reimlingen.de
SUMMARY:Jugendtage
DESCRIPTION:
URL:https://reimlingen.de/terminkalender/jugendtage-4/
LOCATION:Sportplatz\, Am Sommerkeller 11\, Reimlingen\, 86756\, Deutschland
CATEGORIES:FSV
END:VEVENT
BEGIN:VEVENT
DTSTART;VALUE=DATE:20260712
DTEND;VALUE=DATE:20260713
DTSTAMP:20260425T132855
CREATED:20251228T152112Z
LAST-MODIFIED:20251228T152112Z
UID:6829-1783814400-1783900799@reimlingen.de
SUMMARY:Konzert auf Harburg
DESCRIPTION:
URL:https://reimlingen.de/terminkalender/konzert-auf-harburg/
LOCATION:Schloß Harburg\, Harburg (Schwaben)\, 86655
CATEGORIES:MK
END:VEVENT
BEGIN:VEVENT
DTSTART;VALUE=DATE:20260726
DTEND;VALUE=DATE:20260727
DTSTAMP:20260425T132855
CREATED:20251228T152208Z
LAST-MODIFIED:20251228T152208Z
UID:6831-1785024000-1785110399@reimlingen.de
SUMMARY:Umzug Grosselfingen
DESCRIPTION:
URL:https://reimlingen.de/terminkalender/umzug-grosselfingen/
LOCATION:Grosselfingen\, Grosselfingen\, 86720
CATEGORIES:MK
END:VEVENT
END:VCALENDAR